 
BEGIN:VCALENDAR
PRODID:-//Gynstart//Gynstart 2 //EN
VERSION:2.0
METHOD:PUBLISH
BEGIN:VEVENT
LOCATION:Praha, hotel Olympik a online
TRANSP:OPAQUE
SEQUENCE:0
UID:vidacon.cz
DTSTART:20260616T090000
DTEND:20260616T160000  
DTSTAMP:20260424T144128
DESCRIPTION:Konference o legislativních podmínkách, podpoře, možnostech využití, zkušenostech z praxe, nových trendech i strategických partnerstvích v oblasti bioplynu.
SUMMARY:Bioplyn a biometan 2026
SUMMARY;LANGUAGE=cs:test
X-ALT-DESC;FMTTYPE=text/html:<html><body>Konference o legislativních podmínkách, podpoře, možnostech využití, zkušenostech z praxe, nových trendech i strategických partnerstvích v oblasti bioplynu.</body></html>
LAST-MODIFIED:20260424T000000
PRIORITY:5
CLASS:PUBLIC
BEGIN:VALARM
TRIGGER:-PT1080M
ACTION:DISPLAY
DESCRIPTION:Reminder
X-MICROSOFT-CDO-ALLDAYEVENT:1
X-MICROSOFT-CDO-BUSYSTATUS:BUSY
END:VALARM
END:VEVENT
END:VCALENDAR
